View In:
ArcGIS JavaScript
ArcGIS Online Map Viewer
ArcGIS Earth
Service Description: Imagery/Aerials2022_3inch
Name: Imagery/Aerials2022_3inch
Description:
Single Fused Map Cache: false
Extent:
XMin: 473050.5369723961
YMin: 205740.40723274276
XMax: 505969.0135792345
YMax: 228905.28371903673
Spatial Reference: 103068
(6487)
Initial Extent:
XMin: 473050.5369723961
YMin: 205740.40723274276
XMax: 505969.0135792345
YMax: 228905.28371903673
Spatial Reference: 103068
(6487)
Full Extent:
XMin: 473050.5369723961
YMin: 205740.40723274276
XMax: 505969.0135792345
YMax: 228905.28371903673
Spatial Reference: 103068
(6487)
Pixel Size X: 0.07620000094175339
Pixel Size Y: 0.07620000094175339
Band Count: 4
Pixel Type: U8
RasterFunction Infos: {"rasterFunctionInfos": [{
"name": "None",
"description": "",
"help": ""
}]}
Mensuration Capabilities: Basic
Inspection Capabilities:
Has Histograms: true
Has Colormap: false
Has Multi Dimensions : false
Rendering Rule:
Min Scale: 0
Max Scale: 0
Copyright Text:
Service Data Type: esriImageServiceDataTypeGeneric
Min Values: 0, 3, 6, 5
Max Values: 255, 255, 255, 255
Mean Values: 115.89013269615535, 107.23507507890328, 103.57767196733536, 160.52477675651429
Standard Deviation Values: 42.14862274001004, 35.96869598200385, 29.697691138533507, 43.17161584710017
Object ID Field:
Fields:
None
Default Mosaic Method: Center
Allowed Mosaic Methods:
SortField:
SortValue: null
Mosaic Operator: First
Default Compression Quality: 75
Default Resampling Method: Bilinear
Max Record Count: null
Max Image Height: 4100
Max Image Width: 15000
Max Download Image Count: null
Max Mosaic Image Count: null
Allow Raster Function: true
Allow Copy: true
Allow Analysis: true
Allow Compute TiePoints: false
Supports Statistics: false
Supports Advanced Queries: false
Use StandardizedQueries: true
Raster Type Infos:
Name: Raster Dataset
Description: Supports all ArcGIS Raster Datasets
Help:
Has Raster Attribute Table: false
Edit Fields Info: null
Ownership Based AccessControl For Rasters: null
Child Resources:
Info
Histograms
Statistics
Key Properties
Legend
Raster Function Infos
Supported Operations:
Export Image
Identify
Measure
Compute Histograms
Compute Statistics Histograms
Get Samples
Compute Class Statistics
Query Boundary
Compute Pixel Location
Compute Angles
Validate
Project