{
 "currentVersion": 11.3,
 "serviceDescription": "Imagery/Aerials2022_3inch",
 "name": "Imagery/Aerials2022_3inch",
 "description": "",
 "extent": {
  "xmin": 473050.5369723961,
  "ymin": 205740.40723274276,
  "xmax": 505969.0135792345,
  "ymax": 228905.28371903673,
  "spatialReference": {
   "wkid": 103068,
   "latestWkid": 6487
  }
 },
 "initialExtent": {
  "xmin": 473050.5369723961,
  "ymin": 205740.40723274276,
  "xmax": 505969.0135792345,
  "ymax": 228905.28371903673,
  "spatialReference": {
   "wkid": 103068,
   "latestWkid": 6487
  }
 },
 "fullExtent": {
  "xmin": 473050.5369723961,
  "ymin": 205740.40723274276,
  "xmax": 505969.0135792345,
  "ymax": 228905.28371903673,
  "spatialReference": {
   "wkid": 103068,
   "latestWkid": 6487
  }
 },
 "sortableFields": "",
 "bandCount": 4,
 "pixelType": "U8",
 "minValues": [
  0,
  3,
  6,
  5
 ],
 "maxValues": [
  255,
  255,
  255,
  255
 ],
 "meanValues": [
  115.89013269615535,
  107.23507507890328,
  103.57767196733536,
  160.52477675651429
 ],
 "stdvValues": [
  42.14862274001004,
  35.96869598200385,
  29.697691138533507,
  43.17161584710017
 ],
 "hasMultidimensions": false,
 "pixelSizeX": 0.07620000094175339,
 "pixelSizeY": 0.07620000094175339,
 "meanPixelSize": 0.07620000094175339,
 "datasetFormat": "FGDBR",
 "uncompressedSize": 525314944004,
 "blockWidth": 128,
 "blockHeight": 128,
 "compressionType": "JPEG2000",
 "bandNames": [
  "Band_1",
  "Band_2",
  "Band_3",
  "Band_4"
 ],
 "allowCopy": true,
 "allowAnalysis": true,
 "itemAccess": false,
 "inspectionCapabilities": "",
 "minPixelSize": 0,
 "maxPixelSize": 0,
 "copyrightText": "",
 "serviceDataType": "esriImageServiceDataTypeGeneric",
 "serviceSourceType": "esriImageServiceSourceTypeDataset",
 "objectIdField": "",
 "fields": [],
 "capabilities": "Image,Metadata,Mensuration",
 "defaultMosaicMethod": "Center",
 "allowedMosaicMethods": "",
 "sortField": "",
 "sortValue": null,
 "sortAscending": true,
 "mosaicOperator": "First",
 "defaultCompressionQuality": 75,
 "defaultResamplingMethod": "Bilinear",
 "maxImageHeight": 4100,
 "maxImageWidth": 15000,
 "allowRasterFunction": true,
 "rasterFunctionInfos": [
  {
   "name": "None",
   "description": "",
   "help": ""
  }
 ],
 "rasterTypeInfos": [
  {
   "name": "Raster Dataset",
   "description": "Supports all ArcGIS Raster Datasets",
   "help": ""
  }
 ],
 "mensurationCapabilities": "Basic",
 "hasHistograms": true,
 "hasColormap": false,
 "hasRasterAttributeTable": false,
 "minScale": 0,
 "maxScale": 0,
 "exportTilesAllowed": false,
 "supportsStatistics": false,
 "supportsAdvancedQueries": false,
 "editFieldsInfo": null,
 "ownershipBasedAccessControlForRasters": null,
 "allowComputeTiePoints": false,
 "useStandardizedQueries": true,
 "advancedQueryCapabilities": {
  "useStandardizedQueries": true,
  "supportsStatistics": false,
  "supportsOrderBy": false,
  "supportsDistinct": false,
  "supportsPagination": false
 },
 "spatialReference": {
  "wkid": 103068,
  "latestWkid": 6487
 }
}
