View In:
ArcGIS JavaScript
ArcGIS Online Map Viewer
ArcGIS Earth
Service Description: Imagery/Aerials2010
Name: Imagery/Aerials2010
Description:
Single Fused Map Cache: false
Extent:
XMin: 464399.9567712173
YMin: 186600.01144258305
XMax: 507599.9567712173
YMax: 229800.01144258305
Spatial Reference: 26985
(26985)
Initial Extent:
XMin: 464399.9567712173
YMin: 186600.01144258305
XMax: 507599.9567712173
YMax: 229800.01144258305
Spatial Reference: 26985
(26985)
Full Extent:
XMin: 464399.9567712173
YMin: 186600.01144258305
XMax: 507599.9567712173
YMax: 229800.01144258305
Spatial Reference: 26985
(26985)
Pixel Size X: 0.15
Pixel Size Y: 0.15
Band Count: 3
Pixel Type: U8
RasterFunction Infos: {"rasterFunctionInfos": [{
"name": "None",
"description": "",
"help": ""
}]}
Mensuration Capabilities: Basic
Inspection Capabilities:
Has Histograms: true
Has Colormap: false
Has Multi Dimensions : false
Rendering Rule:
Min Scale: 0
Max Scale: 0
Copyright Text:
Service Data Type: esriImageServiceDataTypeRGB
Min Values: 0, 0, 0
Max Values: 255, 255, 255
Mean Values: 152.74815517788232, 140.30724385121562, 130.6574863577208
Standard Deviation Values: 44.55518121898354, 45.256959536537174, 46.73065104722683
Object ID Field:
Fields:
None
Default Mosaic Method: Center
Allowed Mosaic Methods:
SortField:
SortValue: null
Mosaic Operator: First
Default Compression Quality: 75
Default Resampling Method: Bilinear
Max Record Count: null
Max Image Height: 4100
Max Image Width: 15000
Max Download Image Count: null
Max Mosaic Image Count: null
Allow Raster Function: true
Allow Copy: true
Allow Analysis: true
Allow Compute TiePoints: false
Supports Statistics: false
Supports Advanced Queries: false
Use StandardizedQueries: true
Raster Type Infos:
Name: Raster Dataset
Description: Supports all ArcGIS Raster Datasets
Help:
Has Raster Attribute Table: false
Edit Fields Info: null
Ownership Based AccessControl For Rasters: null
Child Resources:
Info
Histograms
Statistics
Key Properties
Legend
Raster Function Infos
Supported Operations:
Export Image
Identify
Measure
Compute Histograms
Compute Statistics Histograms
Get Samples
Compute Class Statistics
Query Boundary
Compute Pixel Location
Compute Angles
Validate
Project