{
 "currentVersion": 11.3,
 "serviceDescription": "Imagery/Aerials2019",
 "name": "Imagery/Aerials2019",
 "description": "",
 "extent": {
  "xmin": 463906.5085488942,
  "ymin": 188671.6522219554,
  "xmax": 507797.7963314692,
  "ymax": 230124.535127721,
  "spatialReference": {
   "wkid": 103068,
   "latestWkid": 6487
  }
 },
 "initialExtent": {
  "xmin": 463906.5085488942,
  "ymin": 188671.6522219554,
  "xmax": 507797.7963314692,
  "ymax": 230124.535127721,
  "spatialReference": {
   "wkid": 103068,
   "latestWkid": 6487
  }
 },
 "fullExtent": {
  "xmin": 463906.5085488942,
  "ymin": 188671.6522219554,
  "xmax": 507797.7963314692,
  "ymax": 230124.535127721,
  "spatialReference": {
   "wkid": 103068,
   "latestWkid": 6487
  }
 },
 "sortableFields": "",
 "bandCount": 4,
 "pixelType": "U8",
 "minValues": [],
 "maxValues": [],
 "meanValues": [],
 "stdvValues": [],
 "hasMultidimensions": false,
 "pixelSizeX": 0.15240030480060765,
 "pixelSizeY": 0.15240030480060887,
 "meanPixelSize": 0.15240030480060826,
 "datasetFormat": "FGDBR",
 "uncompressedSize": 313344000000,
 "blockWidth": 128,
 "blockHeight": 128,
 "compressionType": "LZ77",
 "bandNames": [
  "Band_1",
  "Band_2",
  "Band_3",
  "Band_4"
 ],
 "allowCopy": true,
 "allowAnalysis": true,
 "itemAccess": false,
 "inspectionCapabilities": "",
 "minPixelSize": 0,
 "maxPixelSize": 0,
 "copyrightText": "",
 "serviceDataType": "esriImageServiceDataTypeGeneric",
 "serviceSourceType": "esriImageServiceSourceTypeDataset",
 "objectIdField": "",
 "fields": [],
 "capabilities": "Image,Metadata,Mensuration",
 "defaultMosaicMethod": "Center",
 "allowedMosaicMethods": "",
 "sortField": "",
 "sortValue": null,
 "sortAscending": true,
 "mosaicOperator": "First",
 "defaultCompressionQuality": 75,
 "defaultResamplingMethod": "Bilinear",
 "maxImageHeight": 4100,
 "maxImageWidth": 15000,
 "allowRasterFunction": true,
 "rasterFunctionInfos": [
  {
   "name": "None",
   "description": "",
   "help": ""
  }
 ],
 "rasterTypeInfos": [
  {
   "name": "Raster Dataset",
   "description": "Supports all ArcGIS Raster Datasets",
   "help": ""
  }
 ],
 "mensurationCapabilities": "Basic",
 "hasHistograms": false,
 "hasColormap": false,
 "hasRasterAttributeTable": false,
 "minScale": 0,
 "maxScale": 0,
 "exportTilesAllowed": false,
 "supportsStatistics": false,
 "supportsAdvancedQueries": false,
 "editFieldsInfo": null,
 "ownershipBasedAccessControlForRasters": null,
 "allowComputeTiePoints": false,
 "useStandardizedQueries": true,
 "advancedQueryCapabilities": {
  "useStandardizedQueries": true,
  "supportsStatistics": false,
  "supportsOrderBy": false,
  "supportsDistinct": false,
  "supportsPagination": false
 },
 "spatialReference": {
  "wkid": 103068,
  "latestWkid": 6487
 }
}
